BEGIN:VCALENDAR
VERSION:2.0
PRODID:-//My Community Diary//iCal Event//EN
CALSCALE:GREGORIAN
METHOD:PUBLISH
BEGIN:VEVENT
UID:ec78d764-1c23-4133-81be-942188e0d69c
DTSTAMP:20260424T164700Z
DTSTART;TZID=W. Australia Standard Time:20210224T163000
DTEND;TZID=W. Australia Standard Time:20210224T180000
SUMMARY:The Young Boxing Woman Project
DESCRIPTION:Free female only non combat boxing. 45 minutes non combat boxing. 45 minute workshop.\n\nAll ability and body types welcomed.&nbsp\;\n\nGear provided.&nbsp\;\n\nAges 15 - 25 years\n
LOCATION:The young boxing woman project\, 19 Sundew Rise\, Joondalup WA\, Australia\, WA\, 6027
RRULE:FREQ=WEEKLY;INTERVAL=1;BYDAY=WE
END:VEVENT
END:VCALENDAR
