BEGIN:VCALENDAR
VERSION:2.0
PRODID:-//My Community Diary//iCal Event//EN
CALSCALE:GREGORIAN
METHOD:PUBLISH
BEGIN:VEVENT
UID:dfe54f29-543a-42e9-9070-5cc98b018b0d
DTSTAMP:20260424T160801Z
DTSTART;VALUE=DATE:20210322
DTEND;VALUE=DATE:20210323
SUMMARY:Blackall Tambo Resilience Clinici
DESCRIPTION:We all need to take care of our mental health and wellbeing&nbsp\;\n\nLooking after our mental health and wellbeing gives us a much better chance of doing the things that are important to us\, like:&nbsp\;\n\n\n	\n	making good choices&nbsp\;\n	\n	\n	prioritising our family&nbsp\;\n	\n	\n	having good relationships&nbsp\;\n	\n	\n	functioning well at work&nbsp\;\n	\n	\n	being part of our community&nbsp\;\n	\n	\n	looking forward to the future&nbsp\;\n	\n\n\nAt times we can all struggle with stuff. Chat with us to get some tools and tips to help get through the tough times.&nbsp\;\n\nCome see our professional team at the next Outback Futures Resilience Clinic:&nbsp\;\n\n\n	\n	Consistent support from the same person - When you see one of our team\, they can also support you in between visits through our video/phone connect services.&nbsp\;\n	\n	\n	Easy access – You&nbsp\;don’t&nbsp\;need a referral or mental health plan to see us.&nbsp\;\n	\n	\n	Support for children\, individuals\, couples\, families\, businesses and communities – We’re committed to the&nbsp\;long term&nbsp\;mental health and wellbeing of our outback communities.&nbsp\;\n	\n	\n	Free of charge services&nbsp\;\n	\n	\n	Privacy and confidentiality&nbsp\;\n	\n\n
LOCATION:Outback Futures - Blackall/Tambo\, Blackall QLD 4472\, QLD\, 4472
RRULE:FREQ=DAILY;INTERVAL=1;UNTIL=20210327T000000Z
END:VEVENT
END:VCALENDAR
