BEGIN:VCALENDAR
VERSION:2.0
PRODID:-//My Community Diary//iCal Event//EN
CALSCALE:GREGORIAN
METHOD:PUBLISH
BEGIN:VEVENT
UID:1d2b7bce-799e-424c-ae9c-a0a923e40d1e
DTSTAMP:20260424T160715Z
DTSTART;TZID=AUS Eastern Standard Time:20211118T100000
DTEND;TZID=AUS Eastern Standard Time:20211118T160000
SUMMARY:SUPERHEROES
DESCRIPTION:Be surprised just who might be a Superhero in our midst! The works in this exhibition combine Superheroes from our cartoon collection with works by local children and other artists. Special “guests” appear courtesy of Busways\, Birch\, Carroll &amp\; Coyle Cinemas\, and Jetty Memorial Theatre!\n\nBe inspired and create your own superhero drawing in the Bunker!\n\nExhibition is on until 26th February 2023.\n
LOCATION:National Cartoon Gallery\, John Champion Way\, City Hill\, Coffs Harbour NSW 2450\, NSW\, 2450
RRULE:FREQ=DAILY;INTERVAL=1;UNTIL=20230227T000000Z
END:VEVENT
END:VCALENDAR
