BEGIN:VCALENDAR
VERSION:2.0
PRODID:-//My Community Diary//iCal Event//EN
CALSCALE:GREGORIAN
METHOD:PUBLISH
BEGIN:VEVENT
UID:bee20739-1eb1-4ac6-8cb8-0e1532d5c37d
DTSTAMP:20260424T160717Z
DTSTART;TZID=E. Australia Standard Time:20210301T083000
DTEND;TZID=E. Australia Standard Time:20210301T123000
SUMMARY:Plant propagation at Mackay Natural Environment Centre
DESCRIPTION:Come along to Mackay Natural Environment Centre and help us propagate local native plants for projects within our region. We will be sowing\, potting up plants\, and generally looking after our baby plants. No experience necessary\, just a love of our local environment.&nbsp\;\n
LOCATION:Mackay Natural Environment Centre\, Swayne Street\, North Mackay\, Mackay QLD 4740\, QLD
END:VEVENT
END:VCALENDAR
