BEGIN:VCALENDAR
VERSION:2.0
PRODID:-//My Community Diary//iCal Event//EN
CALSCALE:GREGORIAN
METHOD:PUBLISH
BEGIN:VEVENT
UID:a1cd4b5a-60db-4f01-991e-9257e8f65e2d
DTSTAMP:20260424T160845Z
DTSTART;TZID=E. Australia Standard Time:20210307T073000
DTEND;TZID=E. Australia Standard Time:20210307T090000
SUMMARY:Clean Up Australia Day
DESCRIPTION:Clean Up Australia Day\n\nSunday\, 7th of March\n\nTime: 7.30 am\n\nMeeting place: 5 Aurora Court\, Caboolture\n\n9. 15 am: light breakfast will serve\n\n&nbsp\;\n\n&nbsp\;\n
LOCATION:Sachi Foundation - Caboolture\, 5 Aurora Court\, Caboolture QLD 4510\, QLD\, 4510
END:VEVENT
END:VCALENDAR
