BEGIN:VCALENDAR
VERSION:2.0
PRODID:-//My Community Diary//iCal Event//EN
CALSCALE:GREGORIAN
METHOD:PUBLISH
BEGIN:VEVENT
UID:4e5217b3-bfde-4b4c-b148-608a649741a7
DTSTAMP:20260424T164558Z
DTSTART;TZID=W. Australia Standard Time:20210218T100000
DTEND;TZID=W. Australia Standard Time:20210218T110000
SUMMARY:Legal Series - Information Sessions
DESCRIPTION:Legal Series at The Meeting Place\n\nThe City of Fremantle Legal Series\, brought to you by the Fremantle Community Legal Centre\, are free information sessions to educate residents about their legal rights and responsibilities.\n\nLearn more about the law\, receive legal information and find out where to get further help.\n\nFREE and no bookings required\, simply drop-in to your preferred session.\n\nWhere: The Meeting Place | 10 - 10.45am&nbsp\;\n\n18 February | Centrelink\nGet the lowdown on all things Centrelink with Antonio\, our Centrelink guru. Learn some tips and tricks to dealing with the rejection and appeals processes.\n\n25 March | Legal issues for boomers and beyond\nLearn to navigate the multiple legal issues facing boomers and seniors at this session with the Principal Solicitor from the Fremantle Community Legal Centre.\n\n22 April | Family law\nGet current and expert legal information on various aspects of family law\, including parenting\, financial\, property and divorce.\n\n20 May | Tenancy rights\nNot sure what your rights are as a property tenant? Hear from a Tenancy Advocate about what your landlord can and can’t do with your rental agreements.\n\n17 June | Financial support\nCome along to this session to hear about the financial support options available to you in times of struggle.\n
LOCATION:The Meeting Place\, 45 South Terrace\, South Fremantle WA 6162\, Australia\, WA\, 6162
RRULE:FREQ=WEEKLY;INTERVAL=4;BYDAY=TU,TH;UNTIL=20210514T000000Z
END:VEVENT
END:VCALENDAR
