BEGIN:VCALENDAR
VERSION:2.0
PRODID:-//My Community Diary//iCal Event//EN
CALSCALE:GREGORIAN
METHOD:PUBLISH
BEGIN:VEVENT
UID:64f8c303-5b23-4905-938e-f33d55a9592e
DTSTAMP:20260424T160716Z
DTSTART;TZID=AUS Eastern Standard Time:20210318T140000
DTEND;TZID=AUS Eastern Standard Time:20210318T180000
SUMMARY:Cinematinee - The People Upstairs
DESCRIPTION:Two sessions 2pm &amp\; 6pm\n\nFrom the award-winning director of the 2015 hit\, Truman\, comes a saucy new Spanish comedy\, The People Upstairs – exploring the complexities of modern day relationships.\n\nJulio and Ana have been together for more than fifteen years. They have become a couple who no longer look at nor touch one another\, and who have made daily fighting the essence of their relationship.\n\nOne evening Ana invites over their upstairs neighbours to come round\, Salva and Laura\, a couple younger than them\, pleasant and friendly\, but whose noises are now an annoyance for Julio and Ana… or perhaps a stimulus?\n\nOver the course of the night\, a most unusual and surprising proposal will be made….\n
LOCATION:Coffs Harbour Jetty Theatre\, 337 Harbour Drive\, Coffs Harbour NSW 2450\, NSW\, 2450
END:VEVENT
END:VCALENDAR
