BEGIN:VCALENDAR
VERSION:2.0
PRODID:-//My Community Diary//iCal Event//EN
CALSCALE:GREGORIAN
METHOD:PUBLISH
BEGIN:VEVENT
UID:73a0fc12-9c28-4078-a471-d0832f7a8b1d
DTSTAMP:20260424T164511Z
DTSTART;TZID=W. Australia Standard Time:20210306T120000
DTEND;TZID=W. Australia Standard Time:20210306T170000
SUMMARY:Your Rights\, Your Voice\, Your Choice Self Advocacy Course
DESCRIPTION:Our free Self-Advocacy weekend course will be held over two consecutive Saturday afternoons 12:00 pm - 5:00 pm at Citiplace Community Centre.\n\nRegistration can be made through Eventbrite:&nbsp\;PWdWA Your Rights\, Your Voice\, Your Choice Weekend Course Tickets\, Multiple Dates | Eventbrite&nbsp\;or through calling Vanessa on 9420 7279 or 1800 193 331\n\nLight refreshments will be provided.\n\nSession 1: March 6\, 2021\n\n• Understand your rights and the different types of advocacy\n\n• Learn the key steps to becoming a successful self-advocate\n\nSession 2: March 13 \, 2021\n\n• Explore ways to communicate and how to be more assertive\n\n• Share real experiences and learn from others\n
LOCATION:Citiplace Community Centre\, Citiplace Community Centre\, Wellington Street\, Perth WA\, Australia\, WA\, 6000
RRULE:FREQ=WEEKLY;INTERVAL=1;BYDAY=SA;UNTIL=20210314T000000Z
END:VEVENT
END:VCALENDAR
