BEGIN:VCALENDAR
VERSION:2.0
PRODID:-//My Community Diary//iCal Event//EN
CALSCALE:GREGORIAN
METHOD:PUBLISH
BEGIN:VEVENT
UID:028b1527-e554-40d5-ae22-da599501dbdc
DTSTAMP:20260424T164410Z
DTSTART;TZID=W. Australia Standard Time:20210328T134500
DTEND;TZID=W. Australia Standard Time:20210328T153000
SUMMARY:Albany Orchid Society AGM
DESCRIPTION:The Annual General Meeting of the Albany Orchid Society will be held on Sunday March 28th at the Bridge Club\, Mill St\, Albany. Registration commences at 1.45 with the&nbsp\;meeting getting under way at 2pm. Nominations are open to financial members of the Society and are due in by Sunday March 14th. For further information or a nomination form please contact the Secretary Libby Hocking on 0402 666 091or by email at libbyhocking@iinet.net.au.\n
LOCATION:The Bridge Club Albany\, Mill Street\, Albany WA 6330\, WA
END:VEVENT
END:VCALENDAR
