BEGIN:VCALENDAR
VERSION:2.0
PRODID:-//My Community Diary//iCal Event//EN
CALSCALE:GREGORIAN
METHOD:PUBLISH
BEGIN:VEVENT
UID:39880337-8645-4505-af80-0e3f3259d532
DTSTAMP:20260424T164531Z
DTSTART;TZID=W. Australia Standard Time:20210226T193000
DTEND;TZID=W. Australia Standard Time:20210226T220000
SUMMARY:The Sum of Us
DESCRIPTION:A warm and touching comedy with an all First Nations cast.\n\nSee an exciting revisioning of the much-loved story from the off-Broadway hit and award-winning film The Sum of Us with an all First Nations cast.\n\nHow’s a guy supposed to find Mr. Right when his father is always up in his business? That’s the premise of this warm comedy that revolves around the comfortable relationship between widower Harry and his son Jeff. A beautiful tale of a strong family bond\, ageing\, queerness and the dance we all do when searching for love\, this is Yirra Yaakin’s first queer work. Performed by an Australian First Nations cast\, it is a story that no culture is exempt from. Balancing humour and pathos\, The Sum of Us remains as relevant today as it was 30 years ago.\n\nA Post Show Q&amp\;A and AUSLAN Interpreted Performance will take place on Wednesday 3 Mar\, and an Audio Described Performance will take place on Thursday 4 Mar.\n
LOCATION:Yirra Yaakin Theatre Company\, 180 Hamersley Road\, SUBIACO WA 6008\, WA\, 6008
END:VEVENT
END:VCALENDAR
