BEGIN:VCALENDAR
VERSION:2.0
PRODID:-//My Community Diary//iCal Event//EN
CALSCALE:GREGORIAN
METHOD:PUBLISH
BEGIN:VEVENT
UID:5092ac4c-7001-442b-af65-1f241a583d70
DTSTAMP:20260424T155901Z
DTSTART:20230707T173000Z
DTEND:20230707T223000Z
SUMMARY:Friday Fiestas
DESCRIPTION:Every Friday night we light our wood oven for our legendary Friday Pizza Fiestas.\n\n5.30pm till late\, we have an ever changing pizza menu using the freshest local ingredients\, a rocking vino list and delicious cocktails.\n\nThere is no better way to welcome the weekend!\n\nBooking essential.
LOCATION:\, 18-22 Murray Street\, Greenock\, SA 5360\, SA\, 5360
RRULE:FREQ=WEEKLY;INTERVAL=1;BYDAY=FR;UNTIL=20250705T000000Z
END:VEVENT
END:VCALENDAR
