BEGIN:VCALENDAR
VERSION:2.0
PRODID:-//My Community Diary//iCal Event//EN
CALSCALE:GREGORIAN
METHOD:PUBLISH
BEGIN:VEVENT
UID:bc5ee7a6-7359-459d-a0f7-5dc8e14be276
DTSTAMP:20260424T160626Z
DTSTART:20240706T000000Z
DTEND:20240706T235959Z
SUMMARY:Abbey Medieval Festival
DESCRIPTION:In July school holidays each year\, the Abbey Medieval Festival welcomes thousands of visitors to experience life in the Middle Ages\, specifically 600 to 1600AD in Europe and the Middle East. \n\nThe Abbey Museum of Art and Archaeology together with re-enactors\, jousters\, performers\, food vendors and merchants deliver one of Australia’s premier living history events.
LOCATION:\, 31 The Abbey Place\, Caboolture\, QLD 4510\, QLD\, 4510
RRULE:FREQ=DAILY;INTERVAL=1;UNTIL=20240708T000000Z
END:VEVENT
END:VCALENDAR
