BEGIN:VCALENDAR
VERSION:2.0
PRODID:-//My Community Diary//iCal Event//EN
CALSCALE:GREGORIAN
METHOD:PUBLISH
BEGIN:VEVENT
UID:08318087-dc57-4c87-bda1-400c01db1649
DTSTAMP:20260424T160644Z
DTSTART:20240316T080000Z
DTEND:20240316T130000Z
SUMMARY:Titan Macquarie Mud Run
DESCRIPTION:Set along the banks of the beautiful Macquarie River in the middle of the Central West. The Titan Macquarie Mud Run will challenge you\, inspire you and be lots of fun! Your grit and determination will push you through the 20 plus obstacles including infamous Mud Mania!\n\n?River crossings\, barbed wire crawls and tyre carries will test you while the mud pits will be downright dirty and leave you in fits of laughter.  Complete one lap of the 11 kilometre course or enter for unlimited laps!\n\n?Put together a team\, come as an individual\, enter for fun or enter to see what you are really capable of - either way you will walk away with your t-shirt\, bandana\, soft drink\, a sense of achievement\, awesome memories and stories to last a lifetime.\n?\n?Party on afterwards with the live music\, bar and food. There will be prizes for teams and individuals. Dress up for fun or come ready for action.\n\nEntry Cost\nAll tickets $70  - https://endurancecui.active.com/new/events/83594234/select-race?_p=004373999415690388&error=login_required&state=e865d3b5-805b-46e9-8515-b64176d40806
LOCATION:\, Regand Park Picnic Area\, Tamworth Street\, Dubbo\, NSW 2830\, NSW\, 2830
END:VEVENT
END:VCALENDAR
