BEGIN:VCALENDAR
VERSION:2.0
PRODID:-//My Community Diary//iCal Event//EN
CALSCALE:GREGORIAN
METHOD:PUBLISH
BEGIN:VEVENT
UID:ce29e9ae-223e-4e98-aa5f-4eb351ca43c7
DTSTAMP:20260424T160636Z
DTSTART:20230902T000000Z
DTEND:20230902T235959Z
SUMMARY:Glenreagh Markets
DESCRIPTION:The Glenreagh Community Markets are held on the first Saturday of each month excluding January.\n\nThere’s something for everyone at these markets with antiques\, coins and collectables\, plants\, home grown produce\, books\, delicious culinary treats\, freshly picked herbs and so much more\, you’ll just have to come and see it all for yourself!\n\nTake it easy and enjoy a freshly cooked breakfast or a fresh Devonshire tea or coffee. It’s the perfect atmosphere to meet up with friends and let the morning pass by.
LOCATION:\, 62 Coramba Street\, Glenreagh\, NSW 2450\, NSW\, 2450
RRULE:FREQ=MONTHLY;INTERVAL=1;BYDAY=3MO;UNTIL=20240707T000000Z
END:VEVENT
END:VCALENDAR
