BEGIN:VCALENDAR
VERSION:2.0
PRODID:-//My Community Diary//iCal Event//EN
CALSCALE:GREGORIAN
METHOD:PUBLISH
BEGIN:VEVENT
UID:c2a45cfd-c7dc-412a-9f79-b0b28791a56a
DTSTAMP:20260424T160519Z
DTSTART;TZID=E. Australia Standard Time:20210227T103000
DTEND;TZID=E. Australia Standard Time:20210227T120000
SUMMARY:Artist's Talk: Ron McBurnie
DESCRIPTION:Join Ron McBurnie\, leading Townsville-based artist and educator\, as he talks about his latest his Mackay art residency and culminating exhibition In Search of Arcadia. In 2019 and 2020 McBurnie completed an extended artist residency with Artspace Mackay\, capturing beloved landscapes and views of this region en plein air. Drawing inspiration from early traditions of British and European printmaking and painting. The resulting suite of work on paper is shown together in a major celebration of the beauty of Mackay and its surroundings\, from Cape Hillsborough beaches to cane fields in Eton.\nCovid19 restrictions and social distancing applies\, please arrive early to sign-in.\n\nBOOKING IS ESSENTIAL:\nwww.artspacemackay.eventbrite.com\n\nMORE INFO:&nbsp\;www.artspacemackay.com.au\n
LOCATION:Artspace Mackay\, Gordon Street\, Mackay QLD 4740\, QLD\, 4740
END:VEVENT
END:VCALENDAR
