BEGIN:VCALENDAR
VERSION:2.0
PRODID:-//My Community Diary//iCal Event//EN
CALSCALE:GREGORIAN
METHOD:PUBLISH
BEGIN:VEVENT
UID:65e1fb96-8a40-4392-bf0a-7ef7acf5e52e
DTSTAMP:20260424T160638Z
DTSTART;TZID=AUS Eastern Standard Time:20210327T100000
DTEND;TZID=AUS Eastern Standard Time:20210327T120000
SUMMARY:Food Smart Workshop - Woolgoolga
DESCRIPTION:Learn how to reduce food waste in your kitchen.\n\n&nbsp\;\n\nDiscover how making small changes can help you reduce food waste at home\, save money and help the environment.\n\nLearn about the Food Smart program and how you can make the most of the food you buy!\n\nAttend this FREE\, fun and practical workshop to find out more.\n\nSpots are limited\, so book in quick!\n\n&nbsp\;\n\nGet your ticket here!\n\n&nbsp\;\n\nNote: All attendees will also be registered to our fabulous online Food Smart program so you can make the most of the food you buy!’\n
LOCATION:Woolgoolga Library\, Ganderton Street\, Woolgoolga NSW 2456\, NSW\, 2456
END:VEVENT
END:VCALENDAR
