BEGIN:VCALENDAR
VERSION:2.0
PRODID:-//My Community Diary//iCal Event//EN
CALSCALE:GREGORIAN
METHOD:PUBLISH
BEGIN:VEVENT
UID:b5b71d84-ba66-4c29-94e1-2a4839a7b2ce
DTSTAMP:20260424T160626Z
DTSTART;TZID=E. Australia Standard Time:20210302T170000
DTEND;TZID=E. Australia Standard Time:20210302T183000
SUMMARY:Dad's Social Soccer Leauge
DESCRIPTION:FREE Dad's Social Soccer League\n\nThis is a free program for any fathers and father figures in the community to join in on. No commitment or experience is required... just come down to Gould Adams park\, throw on a bib and join in on the fun. We hope that this program will provide an opportunity for the father figures in our community to meet new people\, gain some fitness and have fun in an inclusive and supportive environment.\n\nWhen: Every Tuesdays 5pm-6.30pm\n\n(Starting 2nd February)\n\nWhere:&nbsp\;558 Kingston Road\, Kingston\, 4114\n\nWho: Anyone who is a dad\, grand father\, uncle\, friend or father figure is welcome! Any age\, any ability!\n\nRegister:&nbsp\;To register please email&nbsp\;sport@myq.org.au or call Brendon on 0417 256 343.\n\n&nbsp\;\n
LOCATION:Multicultural Sports Club (ACCESS Community Services)\, 558 Kingston Road\, Kingston QLD 4114\, QLD\, 4114
RRULE:FREQ=WEEKLY;INTERVAL=1;BYDAY=TU;COUNT=10
END:VEVENT
END:VCALENDAR
