BEGIN:VCALENDAR
VERSION:2.0
PRODID:-//My Community Diary//iCal Event//EN
CALSCALE:GREGORIAN
METHOD:PUBLISH
BEGIN:VEVENT
UID:4be33d97-2e1b-45ed-928e-7246df2853bd
DTSTAMP:20260424T163602Z
DTSTART;VALUE=DATE:20210305
DTEND;VALUE=DATE:20210306
SUMMARY:EXHIBITION 125
DESCRIPTION:125th anniversary of The West Australian Society of Arts \n\nWASA\, the oldest arts society in WA!\n\nTo celebrate this special occasion\, WASA is hosting a 125th Anniversary Exhibition\, \n\nFriday 5th March\,&nbsp\; 9.00 - 6.00 Official Opening 6.00 - 9.00\n\nSaturday 6th March 9.00 - 5.00\n\nSunday 7th March 9.00 - 5.00&nbsp\;&nbsp\;\n\nItalian Club Fremantle 65 Marine Terrace Fremantle\n\nEntry is FREE and all are welcome.\n\nCome along and support this prestigious art society!\n
LOCATION:Italian Club Of Fremantle\, 65 Marine Terrace\, Fremantle WA 6160\, WA\, 6160
RRULE:FREQ=DAILY;INTERVAL=3;UNTIL=20210308T000000Z
END:VEVENT
END:VCALENDAR
