BEGIN:VCALENDAR
VERSION:2.0
PRODID:-//My Community Diary//iCal Event//EN
CALSCALE:GREGORIAN
METHOD:PUBLISH
BEGIN:VEVENT
UID:cefc4c19-eb4f-401f-ac9f-da35e600c94f
DTSTAMP:20260424T160627Z
DTSTART;TZID=E. Australia Standard Time:20210228T143000
DTEND;TZID=E. Australia Standard Time:20210228T163000
SUMMARY:Katisha Adelaide Concert
DESCRIPTION:Experience the violin in ways you never imagined with looping artist\, singer and multi-instrumentalist Katisha Adelaide in her debut&nbsp\;album release concert\, 'Home is Not So Far'. Born and raised in Innisfail\, Katisha is returning to tour her debut album and will be&nbsp\;performing a combination of covers and original songs in a variety of different musical styles. We guarantee you've never heard anything quite like this before!\n\nDoors open 2pm for 2:30pm start. Cash bar &amp\; refreshments at interval. Limited capacity - purchase tickets early to avoid disappointment! Concert length: approx. 2 hours (including interval).\n\nPurchase Tickets Here: www.trybooking.com.au/BOQYN\n\nArtist Website &amp\; Sound Bites:&nbsp\;https://www.katishaadelaide.com\n
LOCATION:Mission Arts\, Mission Beach Community Arts Centre (Mission Arts)\, MARCS Park  2290 Tully-Mission Beach Road Mission Beach QLD 4852\, QLD\, 4852
END:VEVENT
END:VCALENDAR
