BEGIN:VCALENDAR
VERSION:2.0
PRODID:-//My Community Diary//iCal Event//EN
CALSCALE:GREGORIAN
METHOD:PUBLISH
BEGIN:VEVENT
UID:71a0c604-bd8f-444c-8009-7cb5920830e8
DTSTAMP:20260424T154835Z
DTSTART;TZID=E. Australia Standard Time:20210305T100000
DTEND;TZID=E. Australia Standard Time:20210305T140000
SUMMARY:Pool Exhibition
DESCRIPTION:Pool features the work of local artists in a variety of mediums created around the theme of pooled water. Pool is an exploration of water in all its various forms - from rainforest pools to tide pools to swimming pools. Pool is a cool exhibition for this warm time of year!\n\nPool is open daily from 10am-2pm. Entry is free though gold coin donations are gratefully accepted and support the ongoing exhibitions\, workshops and programming at the Mission Beach Community Arts Centre.\n
LOCATION:Mission Arts\, Mission Beach Community Arts Centre (Mission Arts)\, MARCS Park  2290 Tully-Mission Beach Road Mission Beach QLD 4852\, QLD\, 4852
RRULE:FREQ=DAILY;INTERVAL=1;UNTIL=20210407T000000Z
END:VEVENT
END:VCALENDAR
