BEGIN:VCALENDAR
VERSION:2.0
PRODID:-//My Community Diary//iCal Event//EN
CALSCALE:GREGORIAN
METHOD:PUBLISH
BEGIN:VEVENT
UID:bb2126b0-bbd6-4355-beda-d8ccdbdfc628
DTSTAMP:20260424T160000Z
DTSTART;TZID=E. Australia Standard Time:20210210T190000
DTEND;TZID=E. Australia Standard Time:20210210T194500
SUMMARY:Hot meals and Non perishables 
DESCRIPTION:Hot meals in Woodridge provided by your local charity!! Every Wednesday at 7pm join us.\n\n&nbsp\;\n\n&nbsp\;\n
LOCATION:Community Continuing Care Stream\, Logan Central Community Health Centre Level 2\, Cnr Ewing and Wembley Roads\, Logan Central QLD 4114\, QLD\, 4114
RRULE:FREQ=WEEKLY;INTERVAL=1;BYDAY=WE
END:VEVENT
END:VCALENDAR
