BEGIN:VCALENDAR
VERSION:2.0
PRODID:-//My Community Diary//iCal Event//EN
CALSCALE:GREGORIAN
METHOD:PUBLISH
BEGIN:VEVENT
UID:ebfbdced-6452-42f2-9ffb-4b29a6ab2dab
DTSTAMP:20260424T154910Z
DTSTART;TZID=E. Australia Standard Time:20210307T083000
DTEND;TZID=E. Australia Standard Time:20210307T103000
SUMMARY:Clean Up Australia Day
DESCRIPTION:Hi Mackay! Want to step up in 2021 and help clean up our beaches? Conservation Volunteers Mackay will be out on Sunday 7th March cleaning up Town Beach.\n\nFor more information\, or to register please visit the Clean up Australia Day website at&nbsp\;www.cleanup.org.au\n\n&nbsp\;\n
LOCATION:Iluka Park\, Binnington Esplanade\, East Mackay\, Town Beach Carpark (North)\, East Mackay QLD\, Australia\, QLD\, 4740
END:VEVENT
END:VCALENDAR
