BEGIN:VCALENDAR
VERSION:2.0
PRODID:-//My Community Diary//iCal Event//EN
CALSCALE:GREGORIAN
METHOD:PUBLISH
BEGIN:VEVENT
UID:60c1cc30-ed1f-4f8b-b5b2-1008496eac7b
DTSTAMP:20260424T164410Z
DTSTART;TZID=W. Australia Standard Time:20210211T160000
DTEND;TZID=W. Australia Standard Time:20210211T170000
SUMMARY:LGBTQIA+ youth group
DESCRIPTION:The Southern Forests Rainbow Faction Youth Group meets every Thursday afternoon 4-6pm and is open to LGBTQIA+ youth aged 12-17 years. The group provides inclusion\, education and fun activities in a safe and social peer group environment.\n
LOCATION:Manjimup Family Centre\, 13 Mount Street\, Manjimup WA 6258\, WA\, 6258
RRULE:FREQ=WEEKLY;INTERVAL=1;BYDAY=TH;COUNT=9
END:VEVENT
END:VCALENDAR
