BEGIN:VCALENDAR
VERSION:2.0
PRODID:-//My Community Diary//iCal Event//EN
CALSCALE:GREGORIAN
METHOD:PUBLISH
BEGIN:VEVENT
UID:48328058-79ba-426e-a082-a6bf73c7bbec
DTSTAMP:20260424T164532Z
DTSTART;TZID=W. Australia Standard Time:20210321T100000
DTEND;TZID=W. Australia Standard Time:20210321T130000
SUMMARY:Macrame Wall Hanging Workshop
DESCRIPTION:What you will learn:\nHave you always wanted to learn to make Macramé designs such as wall hangings\, plant pot hangers\, Macramé jewellery and more? In this workshop\, you will learn a range of Macramé knots and hitches that can be incorporated to make so many future macrame designs PLUS you'll make your very own Macrame wall hanging to take home on the day! Workshop is suited for absolute beginners to experienced and is facilitated in a patient &amp\; relaxed fun way&nbsp\;\nYou'll receive an instructions guide to learn with throughout the workshop plus beautiful soft off white Australian made cotton cord\, wooden beads and embellishments to create your design. Throughout this workshop you will design and create a wall hanging to take home and adorn your walls.\n\nWhat is included:\nYour ticket price includes a kit with all materials needed to make your wall hanging and written guide instructions plus your in person workshop. Cost is $95 with bookings and payments made via eventbrite (eventbrite booking fee applies) or book direct via leisa@healingindiaglass.com to be invoiced for bank deposit of $95 &amp\; avoid the booking fee\nWorkshops suitable for over 18 years. PH: 0415111374\nleisa@healingindiaglass.com for any questions\n
LOCATION:South Fremantle\, South Terrace\, South Fremantle WA\, Australia\, WA\, 6162
END:VEVENT
END:VCALENDAR
