BEGIN:VCALENDAR
VERSION:2.0
PRODID:-//My Community Diary//iCal Event//EN
CALSCALE:GREGORIAN
METHOD:PUBLISH
BEGIN:VEVENT
UID:930fa2ba-9d95-48ac-816b-cd6a7a6eab3d
DTSTAMP:20260424T164409Z
DTSTART;TZID=W. Australia Standard Time:20210208T093000
DTEND;TZID=W. Australia Standard Time:20210208T113000
SUMMARY:Playgroup
DESCRIPTION:Playgroup is a wonderful opportunity for parents with preschoolers to play and socialise with their little ones.&nbsp\; It is facilitated by our qualified\, highly experienced and friendly facilitator\, Fiona Browne\,&nbsp\;&nbsp\;\n
LOCATION:Manjimup Family Centre\, 13 Mount Street\, Manjimup WA 6258\, WA\, 6258
RRULE:FREQ=WEEKLY;INTERVAL=1;BYDAY=MO,WE,TH;UNTIL=20210402T000000Z
END:VEVENT
END:VCALENDAR
