BEGIN:VCALENDAR
VERSION:2.0
PRODID:-//My Community Diary//iCal Event//EN
CALSCALE:GREGORIAN
METHOD:PUBLISH
BEGIN:VEVENT
UID:86b09211-ef43-4544-98ea-9c86c57c6190
DTSTAMP:20260424T155835Z
DTSTART;TZID=E. Australia Standard Time:20210331T090000
DTEND;TZID=E. Australia Standard Time:20210331T110000
SUMMARY:Coastal Pop Ups @ the Pool
DESCRIPTION:Hooray\, Pop Ups @ the Pool are back at the Isaac coast!!\n\nIsaac Libraries are bringing back their special outdoor story time sessions.\nJoin us for Pop Ups @ The Pool!\n\nBring:\n\n\n	Togs\n	Towel\n	Blanket\n	Hat\n	Sunscreen\n	Water bottle\n	Snacks\n\n\nA partnership between the State Library of Queensland\, the Queensland Government and 78 Queensland Local Governments\, the First5Forever initiative is largely delivered through local public libraries and Indigenous Knowledge Centres.\n
LOCATION:Flaggy Rock Swimming Pool\, Flaggy Rock Road\, Flaggy Rock QLD 4741\, QLD\, 4741
END:VEVENT
END:VCALENDAR
