BEGIN:VCALENDAR
VERSION:2.0
PRODID:-//My Community Diary//iCal Event//EN
CALSCALE:GREGORIAN
METHOD:PUBLISH
BEGIN:VEVENT
UID:b4f48300-c106-4ce2-bca1-9cc4de097593
DTSTAMP:20260424T160513Z
DTSTART;TZID=E. Australia Standard Time:20210301T090000
DTEND;TZID=E. Australia Standard Time:20210301T110000
SUMMARY:Nebo Pop Ups @ the Park
DESCRIPTION:Hooray\, Pop Ups @ the Park are back in Nebo!\n\nIsaac Libraries are bringing back their special outdoor story time sessions.\nJoin us for Pop Ups @ The Park!\n\nBring:\n\n\n	Blanket\n	Hat\n	Sunscreen\n	Water bottle\n	Snacks\n\n\nA partnership between the State Library of Queensland\, the Queensland Government and 78 Queensland Local Governments\, the First5Forever initiative is largely delivered through local public libraries and Indigenous Knowledge Centres.\n
LOCATION:Perry Park\, Cnr Reynolds Street and Oxford Streets\, Nebo QLD 4742\, QLD\, 4742
END:VEVENT
END:VCALENDAR
