BEGIN:VCALENDAR
VERSION:2.0
PRODID:-//My Community Diary//iCal Event//EN
CALSCALE:GREGORIAN
METHOD:PUBLISH
BEGIN:VEVENT
UID:419a8931-ae72-476b-8870-ef13dee27d42
DTSTAMP:20260424T154943Z
DTSTART;TZID=E. Australia Standard Time:20210205T150000
DTEND;TZID=E. Australia Standard Time:20210205T160000
SUMMARY:Men’s Gathering
DESCRIPTION:MISSION\n\nTo build up men of God in the faith.&nbsp\;\n\nBring your bible if you have one. Free BBQ\, tea and coffee.&nbsp\;&nbsp\;\n
LOCATION:Family Worship Centre Ipswich TMOTC\, 7 Bell Street\, Ipswich QLD\, Australia\, QLD\, 4305
RRULE:FREQ=WEEKLY;INTERVAL=1;BYDAY=TU
END:VEVENT
END:VCALENDAR
