BEGIN:VCALENDAR
VERSION:2.0
PRODID:-//My Community Diary//iCal Event//EN
CALSCALE:GREGORIAN
METHOD:PUBLISH
BEGIN:VEVENT
UID:7130dc3d-1943-4ce5-b5b7-89b8ba9e1bf7
DTSTAMP:20260424T160517Z
DTSTART;TZID=E. Australia Standard Time:20210610T123000
DTEND;TZID=E. Australia Standard Time:20210610T153000
SUMMARY:Gympie Pensioners League Meeting
DESCRIPTION:Meeting for a chat and a cuppa\n
LOCATION:The Gympie Senior Citizens Centre Inc\, 40 Mellor St\, Gympie QLD 4570\, QLD\, 4570
END:VEVENT
END:VCALENDAR
