BEGIN:VCALENDAR
VERSION:2.0
PRODID:-//My Community Diary//iCal Event//EN
CALSCALE:GREGORIAN
METHOD:PUBLISH
BEGIN:VEVENT
UID:b155e4e3-279e-411e-9efd-fe5a51bf3e78
DTSTAMP:20260424T172025Z
DTSTART;TZID=E. Australia Standard Time:20210131T080000
DTEND;TZID=E. Australia Standard Time:20210131T090000
SUMMARY:Tai Chi
DESCRIPTION:Tai Chi with Joseph Gold coin donation\n
LOCATION:Loganlea Community Centre\, 28-32 Timms St\, Loganlea QLD 4131\, QLD\, 4131
RRULE:FREQ=WEEKLY;INTERVAL=1;BYDAY=SU
END:VEVENT
END:VCALENDAR
