BEGIN:VCALENDAR
VERSION:2.0
PRODID:-//My Community Diary//iCal Event//EN
CALSCALE:GREGORIAN
METHOD:PUBLISH
BEGIN:VEVENT
UID:aebc69f6-5fe9-4c00-8499-2a598cd9632c
DTSTAMP:20260424T171602Z
DTSTART;TZID=E. Australia Standard Time:20210130T080000
DTEND;TZID=E. Australia Standard Time:20210130T090000
SUMMARY:Tai Chi 
DESCRIPTION:Tai Chi every Saturday morning with Joseph\, Gold coin donation\n
LOCATION:Loganlea Community Centre\, 28-32 Timms St\, Loganlea QLD 4131\, QLD\, 4131
RRULE:FREQ=WEEKLY;INTERVAL=1;BYDAY=SA
END:VEVENT
END:VCALENDAR
