BEGIN:VCALENDAR
VERSION:2.0
PRODID:-//My Community Diary//iCal Event//EN
CALSCALE:GREGORIAN
METHOD:PUBLISH
BEGIN:VEVENT
UID:cf39a60a-98c4-4abe-ad4e-2732329f9afa
DTSTAMP:20260424T160025Z
DTSTART;TZID=E. Australia Standard Time:20210127T093000
DTEND;TZID=E. Australia Standard Time:20210127T113000
SUMMARY:StaynPlay 
DESCRIPTION:Playgroup for 0 to 5 years from 9:30am to 11:30am\, morning tea provided. (in school term)\n
LOCATION:Loganlea Community Centre\, 28-32 Timms St\, Loganlea QLD 4131\, QLD\, 4131
RRULE:FREQ=WEEKLY;INTERVAL=1;BYDAY=WE
END:VEVENT
END:VCALENDAR
