BEGIN:VCALENDAR
VERSION:2.0
PRODID:-//My Community Diary//iCal Event//EN
CALSCALE:GREGORIAN
METHOD:PUBLISH
BEGIN:VEVENT
UID:4c4dab7b-7ceb-4864-8a88-0e9db15cd21a
DTSTAMP:20260424T160650Z
DTSTART;TZID=E. Australia Standard Time:20210202T100000
DTEND;TZID=E. Australia Standard Time:20210202T113000
SUMMARY:ATSICHS Mackay Playgroup (Sarina)
DESCRIPTION:Sarina Mum's &amp\; Bub's\n\nCome along to our ATSICHS Playgroup to meet and connect with other parents whilst spending time with your kids.&nbsp\;\n\nAges 0-5\nLots of fun and educational activities\nAccess to a Health Worker to express health concerns\nParenting support to respond to behavioural concerns&nbsp\;\n\nWhen: 10am - 11:30am\nFortnightly on Tuesday's beginning 9th February\nWhere: Saint Luke's Church Hall\n56/60 Broad Street\, Sarina&nbsp\;\n
LOCATION:Saint Luke's Hall\, Sarina Cultural Hall/St Luke's Hall\, Sarina QLD 4737\, QLD\, 4737
RRULE:FREQ=WEEKLY;INTERVAL=2;BYDAY=TU
END:VEVENT
END:VCALENDAR
