BEGIN:VCALENDAR
VERSION:2.0
PRODID:-//My Community Diary//iCal Event//EN
CALSCALE:GREGORIAN
METHOD:PUBLISH
BEGIN:VEVENT
UID:fd6b2fab-99ec-47c4-97a0-79734ed194fe
DTSTAMP:20260424T160641Z
DTSTART;TZID=E. Australia Standard Time:20210209T100000
DTEND;TZID=E. Australia Standard Time:20210209T113000
SUMMARY:ATSICHS Mackay Playgroup 
DESCRIPTION:Mum's &amp\; Bub's Playgroup\n\nCome along to our ATSICHS Playgroup to meet and connect with other parents whilst spending time with your kids.&nbsp\;\n\nAges 0-5\n\nLots of fun and educational activities\n\nAccess to a Health Worker to express health concerns\n\nParenting support to respond to behavioural concerns&nbsp\;\n\nWhen: 10am - 11:30am\nFortnightly on Tuesday's from 9th Febaruary\nWhere: YuwiYumba Cultural Hub\, 9 River Street\, Mackay QLD\n\n\n&nbsp\;\n
LOCATION:YuwiYumba\, 9 River Street\, Mackay QLD\, Australia\, QLD\, 4740
RRULE:FREQ=WEEKLY;INTERVAL=2;BYDAY=TU
END:VEVENT
END:VCALENDAR
