BEGIN:VCALENDAR
VERSION:2.0
PRODID:-//My Community Diary//iCal Event//EN
CALSCALE:GREGORIAN
METHOD:PUBLISH
BEGIN:VEVENT
UID:6f6a78a9-b092-4966-a0de-4ecf04417d4e
DTSTAMP:20260424T160213Z
DTSTART;TZID=E. Australia Standard Time:20210205T100000
DTEND;TZID=E. Australia Standard Time:20210205T140000
SUMMARY:ATSICHS Men's Group
DESCRIPTION:ATSICHS Men's Group\n\nWhen: Every Friday\, 10am - 2pm\n\nWhere: Men's Shed YuwiYumba Cultural Hub\n9 River Street\, Mackay (corner of River and Tennyson St)&nbsp\;\n\nAll ages welcome\nLunch provided&nbsp\;\n
LOCATION:YuwiYumba\, 9 River Street\, Mackay QLD\, Australia\, QLD\, 4740
RRULE:FREQ=WEEKLY;INTERVAL=1;BYDAY=FR
END:VEVENT
END:VCALENDAR
