BEGIN:VCALENDAR
VERSION:2.0
PRODID:-//My Community Diary//iCal Event//EN
CALSCALE:GREGORIAN
METHOD:PUBLISH
BEGIN:VEVENT
UID:c291fb6c-41d4-4944-989f-0afd117d5522
DTSTAMP:20260424T160648Z
DTSTART;TZID=E. Australia Standard Time:20210227T173000
DTEND;TZID=E. Australia Standard Time:20210227T200000
SUMMARY:Barefoot Bowls Welcome Party
DESCRIPTION:Whether you're brand new to the region\, or a lifelong local\, Council invites all Balonne Shire residents to attend our Barefoot Bowls Welcome Party!\n\nJoin us for an afternoon of sporting fun\, and the chance to show new residents what our wonderful Balonne Shire community is all about.\n\nThere will be a free BBQ\, cash bar\, and green fees are half price meaning it will cost just $5 to get in on the barefoot bowls action.\n\nBring your mates as a team for some friendly competition\, or come along to make new friends – RSVP to Council or just turn up!\n\nTo RSVP\, contact our Community Development Team:E : council@balonne.qld.gov.au\nP: 4620 8888\n
LOCATION:St George Bowls Club\, 118 Victoria Street\, Saint George QLD 4487\, QLD
END:VEVENT
END:VCALENDAR
