BEGIN:VCALENDAR
VERSION:2.0
PRODID:-//My Community Diary//iCal Event//EN
CALSCALE:GREGORIAN
METHOD:PUBLISH
BEGIN:VEVENT
UID:5aff9588-4062-4b95-94fa-3de4f70e67aa
DTSTAMP:20260424T160646Z
DTSTART;TZID=E. Australia Standard Time:20210220T180000
DTEND;TZID=E. Australia Standard Time:20210220T190000
SUMMARY:Women of the Cross Ministries
DESCRIPTION:Invite a friend to come along meet other women&nbsp\;and stay for a cuppa.\n
LOCATION:The Message Of The Cross Ministries International Network\, Ipswich QLD 4305\, QLD\, 4305
RRULE:FREQ=MONTHLY;INTERVAL=1;BYDAY=3MO;UNTIL=20211121T000000Z
END:VEVENT
END:VCALENDAR
