BEGIN:VCALENDAR
VERSION:2.0
PRODID:-//My Community Diary//iCal Event//EN
CALSCALE:GREGORIAN
METHOD:PUBLISH
BEGIN:VEVENT
UID:705b146e-46bf-4028-a6ae-92d69e75da78
DTSTAMP:20260424T164533Z
DTSTART:20240126T000000Z
DTEND:20240126T235959Z
SUMMARY:Australia Day Celebrations Tingha
DESCRIPTION:Tingha's Australia Day celebrations will be held at the Tingha Sports and Recreation Club\, commencing at 5.30pm.\n\nA barbecue dinner will be provided at 6pm\, courtesy of the Tingha Citizens Association Inc. and a fireworks display at 9pm.\n\nPlease note bookings are essential.
LOCATION:\, New Valley Road\, Tingha\, NSW 2369\, NSW\, 2369
END:VEVENT
END:VCALENDAR
