BEGIN:VCALENDAR
VERSION:2.0
PRODID:-//My Community Diary//iCal Event//EN
CALSCALE:GREGORIAN
METHOD:PUBLISH
BEGIN:VEVENT
UID:35786d3e-f106-4abe-b37b-c34aebbdbaf9
DTSTAMP:20260424T155835Z
DTSTART;TZID=E. Australia Standard Time:20210207T070000
DTEND;TZID=E. Australia Standard Time:20210207T120000
SUMMARY:Gatton Village Markets
DESCRIPTION:Enjoy great coffee or fresh juice and choose from an amazing array of food while you listen to live music wander amongst 70+ stalls from our local growers\, makers and creators. We specialise in high quality\, unique\, handmade and hand crafted or grown products.\n\n# fresh produce\, flowers\, succulents\, honey\n\n# candles\, soaps and jewellery\n\n# jams\, pickles and preserves\n\nLOTS of great food to enjoy or take home: donuts\, cakes\, biscuits\, baklava\n\nThe Gatton Historical Village will be OPEN for visitors during the market. Each month there will be something different to look at. Attractions include working machinery\, pumps\, blacksmith demonstrations\, museum and the old jail house.\n\n&nbsp\;\n
LOCATION:Lake Apex Precinct\, Western Drive\, Gatton QLD\, Australia\, QLD\, 4343
RRULE:FREQ=MONTHLY;INTERVAL=1;BYDAY=3MO;UNTIL=20211206T000000Z
END:VEVENT
END:VCALENDAR
