BEGIN:VCALENDAR
VERSION:2.0
PRODID:-//My Community Diary//iCal Event//EN
CALSCALE:GREGORIAN
METHOD:PUBLISH
BEGIN:VEVENT
UID:5b7ebf66-2c35-4a54-ad4c-fd90b5f5e1c6
DTSTAMP:20260424T160633Z
DTSTART:20210228T090000Z
DTEND:20210228T140000Z
SUMMARY:Eynesbury Market
DESCRIPTION:Come along and enjoy the relaxed surroundings of Eynesbury Market. There is a wide range of stalls from produce growers\, fruit\, jams\, sauces\, cakes\, breads\, artisan craft stalls along with many other stalls and food vendors. What a wonderful way to spend a relaxed family Sunday.
LOCATION:\, 487 Eynesbury Road\, Eynesbury\, VIC 3338\, VIC\, 3338
RRULE:FREQ=MONTHLY;INTERVAL=1;BYDAY=3MO;UNTIL=20240527T000000Z
END:VEVENT
END:VCALENDAR
