BEGIN:VCALENDAR
VERSION:2.0
PRODID:-//My Community Diary//iCal Event//EN
CALSCALE:GREGORIAN
METHOD:PUBLISH
BEGIN:VEVENT
UID:53b632b0-3402-4b27-b706-f321daa40151
DTSTAMP:20260424T164434Z
DTSTART:20240126T000000Z
DTEND:20240126T235959Z
SUMMARY:Australia Day Celebrations Ashford
DESCRIPTION:Australia Day in Ashford will be celebrated at the Ashford pool.  \n\nA barbecue breakfast will be provided by the Ashford Lions Club at 8.00am\, and will be followed by a Flag Raising Ceremony\, presentation of the Citizen of the Year Award\,  yabbie races and yard games.
LOCATION:\, 36 Bala Street\, Ashford\, NSW 2361\, NSW\, 2361
END:VEVENT
END:VCALENDAR
