BEGIN:VCALENDAR
VERSION:2.0
PRODID:-//My Community Diary//iCal Event//EN
CALSCALE:GREGORIAN
METHOD:PUBLISH
BEGIN:VEVENT
UID:a0c6d7ea-4166-464f-b277-dcaa1328e15b
DTSTAMP:20260424T164532Z
DTSTART;TZID=W. Australia Standard Time:20211006T130000
DTEND;TZID=W. Australia Standard Time:20211006T150000
SUMMARY:Watercolour Course
DESCRIPTION:Commences on 6th October for six weeks at the Seville Grove Library\, starting at 1pm\n
LOCATION:Seville Grove Library\, 76 Champion Drive\, Seville Grove WA\, Australia\, WA\, 6112
RRULE:FREQ=WEEKLY;INTERVAL=1;BYDAY=WE;UNTIL=20211118T000000Z
END:VEVENT
END:VCALENDAR
