BEGIN:VCALENDAR
VERSION:2.0
PRODID:-//My Community Diary//iCal Event//EN
CALSCALE:GREGORIAN
METHOD:PUBLISH
BEGIN:VEVENT
UID:df14d766-70a7-4a55-a421-e98a36b5501b
DTSTAMP:20260422T050006Z
DTSTART;TZID=AUS Eastern Standard Time:20210123T163000
DTEND;TZID=AUS Eastern Standard Time:20210123T173000
SUMMARY:Free Meal Take-Away Dinner
DESCRIPTION:Free meal provided by Hare Krishna Food for Life Program Canberra.\n
LOCATION:Griffin Centre\, Meeting Room 1\, 20 Genge Street\, Canberra ACT\, Australia\, ACT\, 2601
RRULE:FREQ=WEEKLY;INTERVAL=1;BYDAY=WE,SA
END:VEVENT
END:VCALENDAR
