BEGIN:VCALENDAR
VERSION:2.0
PRODID:-//My Community Diary//iCal Event//EN
CALSCALE:GREGORIAN
METHOD:PUBLISH
BEGIN:VEVENT
UID:b831b3a9-9926-4623-bdd4-00f3bc2e3885
DTSTAMP:20260424T160638Z
DTSTART;TZID=E. Australia Standard Time:20210104T090000
DTEND;TZID=E. Australia Standard Time:20210104T153000
SUMMARY:QLD Health Baby & Child Clinics
DESCRIPTION:The Inala Child Health Team is a passionate group of staff\, offering ALL Families with Infants\, Toddlers and Children FREE\n\nPostnatal Parenting Support.\n\n\n	Breastfeeding or Bottle-Feeding Support.\n	Birth to 6 Year Growth and Developmental Checks.\n	Nutritional Information.\n	Sleep and Settling Support.\n\n\nAt Mt Ommaney Community Hub we offer – \n\n\n	Drop-in Service Mondays and Thursdays 9.00am – 12.00pm Parenting support\, weight checks and feeding advice (no appointment necessary)\n	Self- weigh facility Monday and Thursday&nbsp\;&nbsp\;&nbsp\;&nbsp\;&nbsp\;&nbsp\;&nbsp\;&nbsp\;&nbsp\;&nbsp\;&nbsp\;&nbsp\;&nbsp\;&nbsp\;&nbsp\;&nbsp\; 9.00am – 12.00pm\n	New Parent Groups on Mondays&nbsp\;&nbsp\;&nbsp\;&nbsp\;&nbsp\;&nbsp\;&nbsp\;&nbsp\;&nbsp\;&nbsp\;&nbsp\;&nbsp\;&nbsp\;&nbsp\;&nbsp\;&nbsp\;&nbsp\;&nbsp\;&nbsp\;&nbsp\;&nbsp\;&nbsp\;&nbsp\;&nbsp\;&nbsp\;&nbsp\;&nbsp\;&nbsp\;&nbsp\;&nbsp\;&nbsp\; 1.30pm – 3.00pm\n	4 – 6 Month Parent Groups on Thursdays 1.30pm – 3.00pm\n	10 – 12 Month Parent Group on Thursdays 1.30pm – 3.00pm\n\n
LOCATION:Centenary Community Connections  / CCC\, Mount Ommaney QLD 4074\, QLD\, 4074
RRULE:FREQ=WEEKLY;INTERVAL=1;BYDAY=MO,TH;UNTIL=20211224T000000Z
END:VEVENT
END:VCALENDAR
