BEGIN:VCALENDAR
VERSION:2.0
PRODID:-//My Community Diary//iCal Event//EN
CALSCALE:GREGORIAN
METHOD:PUBLISH
BEGIN:VEVENT
UID:600f0b8c-0dd8-4d6b-94d6-41bc00680c68
DTSTAMP:20260424T160001Z
DTSTART;TZID=E. Australia Standard Time:20210108T100000
DTEND;TZID=E. Australia Standard Time:20210108T120000
SUMMARY:Centenary Bubs Playgroup
DESCRIPTION:Centenary Bubs playgroup has been formed by like-minded parents of babies born in 2020 who came together as part of the South West Brisbane Parent Community.\n\nWe are a safe\, supportive\, and inclusive community run group with casual non-structured meetings.\n\nOur playgroup\, though initially focused to babies aged between 0-1 years old\, is welcoming to all families\, caregivers\, and older siblings/children as well.\n\nWe are proud to be supported by the generosity of the Centenary Community Connections (CCC)&nbsp\;who provide sponsorship to allow us to offer the playgroup at no cost for attending families and children.\n\nPlease like our Facebook Page (South West Brisbane Parent Community) to connect with other families and for event updates regarding this playgroup.\n
LOCATION:Centenary Community Hub\, 171 Dandenong Rd\, Mt Ommaney QLD 4074\, QLD
RRULE:FREQ=WEEKLY;INTERVAL=1;BYDAY=FR;UNTIL=20211211T000000Z
END:VEVENT
END:VCALENDAR
