BEGIN:VCALENDAR
VERSION:2.0
PRODID:-//My Community Diary//iCal Event//EN
CALSCALE:GREGORIAN
METHOD:PUBLISH
BEGIN:VEVENT
UID:16515f02-fe9f-46fa-8e97-5dea8f3ae2fd
DTSTAMP:20260424T160020Z
DTSTART;TZID=E. Australia Standard Time:20210117T100000
DTEND;TZID=E. Australia Standard Time:20210117T170000
SUMMARY:Brisbane Modern Quilt Guild
DESCRIPTION:The BMQG is a community for quilters to share and inspire each other.\n\nTo promote the craft of modern quilting in a friendly atmosphere\, provide a place to share ideas and skills\, conduct workshops to enhance skills\, and enable those members who wish to participate in charity quilt making for the community.\n\nOur focus is on the modern aesthetic\, modern fabrics\, spreading a love of quilting and supporting other.\n
LOCATION:Centenary Community Hub\, 171 Dandenong Rd\, Mt Ommaney QLD 4074\, QLD
RRULE:FREQ=MONTHLY;INTERVAL=1;BYDAY=3MO;UNTIL=20211122T000000Z
END:VEVENT
END:VCALENDAR
