BEGIN:VCALENDAR
VERSION:2.0
PRODID:-//My Community Diary//iCal Event//EN
CALSCALE:GREGORIAN
METHOD:PUBLISH
BEGIN:VEVENT
UID:085cc5a3-522a-4e24-acae-3eb6137fa150
DTSTAMP:20260424T160803Z
DTSTART;TZID=E. Australia Standard Time:20210205T130000
DTEND;TZID=E. Australia Standard Time:20210205T160000
SUMMARY:Sherwood Philatelic Society
DESCRIPTION:We meet once a month on the first Friday of each month. Membership is around 40.\n\nThe club has been in existence for many years and is affiliated to the Queensland Philatelic Society.\n\nAt each meeting\, the club have circuit books which contain stamps from all countries and members and visitors look through these to see if there are any that they wish to purchase and add to their collection. These are priced well below catalogue. Occasionally we also have a visiting club and an auction.\n\nVisitors are most welcome\, and we can provide advice on individual stamps or collections.\n\nWhy not bring along any stamps that have been gathering dust in the garage or attic for years. Tea and coffee are available.\n
LOCATION:Centenary Community Hub\, 171 Dandenong Rd\, Mt Ommaney QLD 4074\, QLD
RRULE:FREQ=MONTHLY;INTERVAL=1;BYDAY=3MO;UNTIL=20211204T000000Z
END:VEVENT
END:VCALENDAR
