BEGIN:VCALENDAR
VERSION:2.0
PRODID:-//My Community Diary//iCal Event//EN
CALSCALE:GREGORIAN
METHOD:PUBLISH
BEGIN:VEVENT
UID:4145abc9-92d7-47aa-942e-772e4cff67b2
DTSTAMP:20260424T160522Z
DTSTART;TZID=AUS Eastern Standard Time:20210924T080000
DTEND;TZID=AUS Eastern Standard Time:20210924T120000
SUMMARY:Plant Sales and Market Stall
DESCRIPTION:Open WEDNESDAY\, FRIDAY &amp\; SATURDAYS&nbsp\; 8am to 12md\n\nOur shade-house and market stall are&nbsp\;opened during these times\n\nHeaps of cheap plants for sale\, pickles\, and freshly picked produce for sale.\n\nWe sell&nbsp\; fresh vegetables and herbs when available\, comfrey ointment\, turmeric powder\n\nProduce for sale mostly on the Saturday\n
LOCATION:Woolgoolga Community Gardens\, 79 Scarborough Street\, Woolgoolga NSW 2456\, NSW\, 2456
END:VEVENT
END:VCALENDAR
