BEGIN:VCALENDAR
VERSION:2.0
PRODID:-//My Community Diary//iCal Event//EN
CALSCALE:GREGORIAN
METHOD:PUBLISH
BEGIN:VEVENT
UID:2b66d7c8-7aca-4945-9c56-ff546134bb82
DTSTAMP:20260424T160623Z
DTSTART;TZID=E. Australia Standard Time:20210202T114500
DTEND;TZID=E. Australia Standard Time:20210202T124500
SUMMARY:Zumba Gold Fitness
DESCRIPTION:Tuesday 11.45am – weekly\n\nGet active with great people at the Zumba Gold® workout for the young at heart! Ideal for active older adults wanting a fun\, simple and low-impact fitness class. You'll be grooving to a wide range of zesty Latin\, spicy Indian and other international rhythms!\n\nThis low-cost activity has been funded by Brisbane City Council as part of Council's Active and Healthy program. This is a GOLD event suitable for seniors (50+)\, however\, any age is welcome!\n\nWear your workout gear. Bring a water bottle and\, optional\, a sweat towel.\n\n$7 per person per class – Pay by cash or debit/credit card at the class\n
LOCATION:Centenary Community Hub\, 171 Dandenong Rd\, Mt Ommaney QLD 4074\, QLD
RRULE:FREQ=WEEKLY;INTERVAL=1;BYDAY=TU;UNTIL=20211222T000000Z
END:VEVENT
END:VCALENDAR
