BEGIN:VCALENDAR
VERSION:2.0
PRODID:-//My Community Diary//iCal Event//EN
CALSCALE:GREGORIAN
METHOD:PUBLISH
BEGIN:VEVENT
UID:c838082d-ad26-4321-bc74-efe1a7f592d2
DTSTAMP:20260424T164532Z
DTSTART:20220108T000000Z
DTEND:20220108T235959Z
SUMMARY:Benalla Park Run
DESCRIPTION:Parkrun organise free\, weekly\, five kilometre timed runs around the world. They are open to everyone\, free\, and are safe and easy to take part in.\n\nThese events take place in pleasant parkland surroundings and they encourage people of every ability to take part\; from walkers or those taking their first steps in running to Olympians\; from juniors to those with more experience\; all welcome.\n\nThis is a great opportunity for all fitness levels but don't fret if you don't run\, its perfect for walkers for all walks of life.\n\nPark Run takes place every Saturday\, 8:00am at the Benalla Botanical Gardens.
LOCATION:\, Bridge Street\, Benalla\, VIC 3672\, VIC\, 3672
RRULE:FREQ=DAILY;INTERVAL=1;UNTIL=20240128T000000Z
END:VEVENT
END:VCALENDAR
